BEGIN:VCALENDAR
VERSION:2.0
PRODID:-//Supporters of Families with Sickle Cell Disease - ECPv6.15.20//NONSGML v1.0//EN
CALSCALE:GREGORIAN
METHOD:PUBLISH
X-WR-CALNAME:Supporters of Families with Sickle Cell Disease
X-ORIGINAL-URL:https://sicklecelloklahoma.org
X-WR-CALDESC:Events for Supporters of Families with Sickle Cell Disease
REFRESH-INTERVAL;VALUE=DURATION:PT1H
X-Robots-Tag:noindex
X-PUBLISHED-TTL:PT1H
BEGIN:VTIMEZONE
TZID:America/Indiana/Indianapolis
BEGIN:DAYLIGHT
TZOFFSETFROM:-0500
TZOFFSETTO:-0400
TZNAME:EDT
DTSTART:20250309T070000
END:DAYLIGHT
BEGIN:STANDARD
TZOFFSETFROM:-0400
TZOFFSETTO:-0500
TZNAME:EST
DTSTART:20251102T060000
END:STANDARD
BEGIN:DAYLIGHT
TZOFFSETFROM:-0500
TZOFFSETTO:-0400
TZNAME:EDT
DTSTART:20260308T070000
END:DAYLIGHT
BEGIN:STANDARD
TZOFFSETFROM:-0400
TZOFFSETTO:-0500
TZNAME:EST
DTSTART:20261101T060000
END:STANDARD
BEGIN:DAYLIGHT
TZOFFSETFROM:-0500
TZOFFSETTO:-0400
TZNAME:EDT
DTSTART:20270314T070000
END:DAYLIGHT
BEGIN:STANDARD
TZOFFSETFROM:-0400
TZOFFSETTO:-0500
TZNAME:EST
DTSTART:20271107T060000
END:STANDARD
END:VTIMEZONE
BEGIN:VEVENT
DTSTART;TZID=America/Indiana/Indianapolis:20260203T080000
DTEND;TZID=America/Indiana/Indianapolis:20260203T170000
DTSTAMP:20260420T020958
CREATED:20260203T214654Z
LAST-MODIFIED:20260203T214654Z
UID:18742-1770105600-1770138000@sicklecelloklahoma.org
SUMMARY:Blood Drive - Langston University - OKC
DESCRIPTION:Strength\, community\, and lifesaving impact come together in this upcoming blood drive at Langston University–OKC. As the image powerfully reminds us\, our blood saves lives—and for individuals living with sickle cell disease\, regular blood donations are not just helpful\, they are essential. On Tuesday\, February 3\, students\, faculty\, and the surrounding Oklahoma City community are invited to roll up their sleeves and make a real difference. Hosted in Classroom #102\, this blood drive is an opportunity to turn compassion into action\, support the American Red Cross\, and help ensure that patients who rely on frequent transfusions have access to the lifesaving blood they need.
URL:https://sicklecelloklahoma.org/event/blood-drive-langston-university-okc/
CATEGORIES:Blood Drive
ATTACH;FMTTYPE=image/jpeg:https://sicklecelloklahoma.org/wp-content/uploads/2026/02/Event-0.jpg
END:VEVENT
BEGIN:VEVENT
DTSTART;TZID=America/Indiana/Indianapolis:20260203T080000
DTEND;TZID=America/Indiana/Indianapolis:20260203T170000
DTSTAMP:20260420T020958
CREATED:20260203T214812Z
LAST-MODIFIED:20260203T214812Z
UID:18745-1770105600-1770138000@sicklecelloklahoma.org
SUMMARY:Blood Drive - Langston University - Tulsa
DESCRIPTION:Community strength and lifesaving action take center stage at the upcoming blood drive at Langston University–Tulsa. This event is more than a chance to donate blood—it’s a chance to directly support patients living with sickle cell disease and others who depend on regular transfusions to survive. On Thursday\, February 5\, the Langston Tulsa campus will open its lobby to students\, staff\, and community members ready to make an impact. By answering the call to donate\, participants help ensure a stable blood supply while standing in solidarity with families affected by sickle cell disease. One donation can save multiple lives\, and together\, our collective effort can ease suffering and bring hope where it’s needed most.
URL:https://sicklecelloklahoma.org/event/blood-drive-langston-university-tulsa/
ATTACH;FMTTYPE=image/jpeg:https://sicklecelloklahoma.org/wp-content/uploads/2026/02/Event-1.jpg
END:VEVENT
END:VCALENDAR