BEGIN:VCALENDAR
VERSION:2.0
PRODID:-//Supporters of Families with Sickle Cell Disease - ECPv6.15.20//NONSGML v1.0//EN
CALSCALE:GREGORIAN
METHOD:PUBLISH
X-WR-CALNAME:Supporters of Families with Sickle Cell Disease
X-ORIGINAL-URL:https://sicklecelloklahoma.org
X-WR-CALDESC:Events for Supporters of Families with Sickle Cell Disease
REFRESH-INTERVAL;VALUE=DURATION:PT1H
X-Robots-Tag:noindex
X-PUBLISHED-TTL:PT1H
BEGIN:VTIMEZONE
TZID:UTC
BEGIN:STANDARD
TZOFFSETFROM:+0000
TZOFFSETTO:+0000
TZNAME:UTC
DTSTART:20180101T000000
END:STANDARD
END:VTIMEZONE
BEGIN:VEVENT
DTSTART;TZID=UTC:20190420T080000
DTEND;TZID=UTC:20190420T170000
DTSTAMP:20260420T021049
CREATED:20190622T203414Z
LAST-MODIFIED:20190622T203414Z
UID:16926-1555747200-1555779600@sicklecelloklahoma.org
SUMMARY:2019 Easter Egghunt and Collaboration Education Event
DESCRIPTION:  \n\n				\n					\n				\n			\n 
URL:https://sicklecelloklahoma.org/event/2019-easter-egghunt-and-collaboration-education-event/
END:VEVENT
END:VCALENDAR